BEGIN:VCALENDAR
VERSION:2.0
PRODID:-//Athletics SWD - ECPv4.9.4//NONSGML v1.0//EN
CALSCALE:GREGORIAN
METHOD:PUBLISH
X-WR-CALNAME:Athletics SWD
X-ORIGINAL-URL:https://www.aswd.co.za
X-WR-CALDESC:Events for Athletics SWD
BEGIN:VTIMEZONE
TZID:"Europe/Helsinki"
BEGIN:DAYLIGHT
TZOFFSETFROM:+0200
TZOFFSETTO:+0300
TZNAME:EEST
DTSTART:20260329T010000
END:DAYLIGHT
BEGIN:STANDARD
TZOFFSETFROM:+0300
TZOFFSETTO:+0200
TZNAME:EET
DTSTART:20261025T010000
END:STANDARD
END:VTIMEZONE
BEGIN:VEVENT
DTSTART;TZID="Europe/Helsinki":20260425T060000
DTEND;TZID="Europe/Helsinki":20260425T123000
DTSTAMP:20260419T140254
CREATED:20190325T093641Z
LAST-MODIFIED:20260120T123818Z
UID:18744-1777096800-1777120200@www.aswd.co.za
SUMMARY:Outeniqua Marathon & Half Marathon
DESCRIPTION:Pre-entries:\n1) Enter Online: www.entryninja.com (Additional R15 to online fees) or Entry Ninja\n2) Pre-Entries can also be completed at Top Gear Sport\, MountCO and Sportmans Warehouse – Eden Meander Lifestyle Centre George.\n3) Closing date for pre-entries: Tuesday\, 21 April 2026. Online Entries close 22 April 2026 @ 23h59. \nRegistration and late entries: All runners must register/enter at Cornerstyle Lifestyle Centre: Gwaing Rd Traffic Circle on Friday\, 24 April 2026 between 16h00 – 21h00. Late Entries will attract a R20 premium to advertised rates.\nNO ENTRIES ON RACE DAY FOR 21\,1KM AND 42\,2KM . LATE ENTRIES FOR 10KM AT COMMONAGE. NO REFUNDS. \nT-Shirts: Cut-off time to order t-shirts is 23 March 2026. \nTransport: Available from Wilderness at the finish (Commonage – Opposite Wilderness Hotel) to the start of the marathon and half marathon. Limited seats available on busses that will leave LATEST 05h30 from The Wilderness Hotel\, and from there to the Garden Route Dam (start of 21km). Busses will also be available from the finish back to TBA. \nStart: 42km – 07h00 @ Cornerstone Lifestyle Centre: Gwaing Rd Traffic Circle. R404\, Blanco\, George 21km – 08h00 @ Garden Route Dam. (PLEASE ALLOW 10MIN WALKING TO STARTLINE) 10km – 08h00 @ Wilderness Commonage(No under14 y. olds\nFinish: Commonage – Opposite Wilderness Hotel (all races) \nPrize giving at the event after cut-off time of the 42\,2km. All Prize winners must be in their club colours when collecting their prize. Winners must be present at prize giving otherwise the prize will be forfeited. No Exceptions \nEnquiries : Esme 0844997753 / Sandra 083 255 9303 \nACCOMODATION : Please contact George Tourism www.visitgeorge.co.za \n    \n  \n
URL:https://www.aswd.co.za/event/outeniqua-marathon-half-marathon-2/
LOCATION:Wilderness Commonage\, Commonage\, Wilderness\, 6560\, South Africa
CATEGORIES:10km,21.1km,42.2km
ATTACH;FMTTYPE=image/png:https://www.aswd.co.za/wp-content/uploads/2019/03/Screenshot-2026-01-20-085242.png
END:VEVENT
BEGIN:VEVENT
DTSTART;TZID="Europe/Helsinki":20260501T063000
DTEND;TZID="Europe/Helsinki":20260501T093000
DTSTAMP:20260419T140254
CREATED:20241107T080736Z
LAST-MODIFIED:20260112T125007Z
UID:22320-1777617000-1777627800@www.aswd.co.za
SUMMARY:Die Wilde Karoo Trailrun
DESCRIPTION:GENERAL\n1] Start and Finish at Chandelier Game Lodge.\n2] Cut-off times: 21km trail = 4 hours • 10km = 3 hours • 5km = 2 hours.\n3] First aid is available at the finish.\n4] Ablution facilities will be available at start and finish.\n5] Race results available at www.aswd.co.za/results \nONLINE ENTRIES: www.entryninja.com\nHAND ENTRIES: Top Gear Sport\, George • Nedbank Running Club Time Trial – Oudtshoorn\n18:00 at Wes Bank Tennis Club\, Buitekant Street • Nedbank Running Club Time Trial – George 10:30\nat NRC Clubhouse\, Meent Street\, Heather Park. \nREGISTRATION AND LATE ENTRIES\n1] Pre-entries close on 28 April 2026 at 16:00.\nLate entries on race day from 07:00 at R20 premium.\n2] The collection of the race number bib and timing chip (21km and 10km trail run)\nand arm band (5km trail run) will take place on Friday\, 1 May 2026 from 07:00\nat Chandelier Game Lodge. \nLOCATION: Located on the N12 (Route 62) 7km from Oudtshoorn\, enroute to George.\nGPS: Latitude: S 33° 39.933 Longitude: E 22° 14.354. \nEntries: www.entryninja.com • Enquiries: 083 376 7414 • 083 751 4445 \n  \n  \n
URL:https://www.aswd.co.za/event/die-wilde-karoo-trailrun/
LOCATION:Chandelier Game Lodge\, Athletics South Western Districts\, South Africa
CATEGORIES:10km,21km,5km
ATTACH;FMTTYPE=image/png:https://www.aswd.co.za/wp-content/uploads/2024/11/Screenshot-2026-01-12-100025.png
END:VEVENT
BEGIN:VEVENT
DTSTART;TZID="Europe/Helsinki":20260509T080000
DTEND;TZID="Europe/Helsinki":20260509T110000
DTSTAMP:20260419T140254
CREATED:20211012T111958Z
LAST-MODIFIED:20260318T123815Z
UID:20069-1778313600-1778324400@www.aswd.co.za
SUMMARY:Hoekwil Race
DESCRIPTION:Pre entries: 1. Enter online at www.aswd.co.za (R15 added to online Fee)\n2. Pre-entries can be completed at Top Gear and MountCo\n3. Closing date for online entries Wed\, 6 May 2026 12h00\n4. Closing date for manual entries Wednesday\, 6 May 2026 17h00 \nRegistration and late entries at Hoekwil Church on race day:\nRegistration 6h30 – 7h30 on race day\, 9 May 2026. Late Entries will attract a R20 premium to advertised rates \nASWD Licensed athlete take note : Forget your IPICO chip – you will have to pay R20 to loan one for the race. Lost your chip – you will have to pay R75 for a replacement chip. \nStart: 10km & 21.1km NG Kerk Hoekwil at 8h00\, 3km Fun Run at 8h15 \nPrize giving : NG Kerk Hoekwil at 11am.\nAll Prize winners must be in their club colours when collecting their prize. Winners must be present at prize giving otherwise the prize will be forfeited. No Exceptions! \nEnquiries : Helena Ferreira 0765939636 or race@cmce.co.za \n  \n
URL:https://www.aswd.co.za/event/die-vleie-hoekwil-trail-run/
LOCATION:NG Church Hoekwil\, Kerk Street\, Hoekwil\, Hoekwil\, Western Cape\, South Africa
CATEGORIES:10km,21.1km,3km
ATTACH;FMTTYPE=image/png:https://www.aswd.co.za/wp-content/uploads/2021/10/Screenshot-2026-03-13-090250.png
END:VEVENT
BEGIN:VEVENT
DTSTART;TZID="Europe/Helsinki":20260616T080000
DTEND;TZID="Europe/Helsinki":20260616T100000
DTSTAMP:20260419T140254
CREATED:20180307T085325Z
LAST-MODIFIED:20251113T093153Z
UID:16037-1781596800-1781604000@www.aswd.co.za
SUMMARY:McDonalds 2 McDonalds Youth Day Race
DESCRIPTION:ENTRIES : \n\nOnline Entries : www.entryninja.com\nBy hand : You can enter and pay at Top Gear Sport & Sportmans Warehouse\, Eden Meander mall. Please keep the receipt as proof of payment\n\nREGISTRATION AND LATE ENTRY \n\nPre-entries close on 12 June 2025 at 23h59.\nRegistration to collect TEMP licence number will take place on Monday 16 June from 07h00 – 07h50 at McDonalds Garden Route Mall.\nASWD Athletes do not have to register if they have entered.\nREGISTRATION AND LATE ENTRY: NO RACE DAY ENTRIES. This is a pre-entry event and entries are accepted.\nPre-entries close on 12 June 2026 at 23:59\n\nRACE NUMBER COLLECTION (ALL RUNNERS):\nSportsmans Warehouse\, Eden Meander Mall                    { McDonald’s Langeberg Mall\, Mossel Bay\nMonday • 15 June 12:00-15:00\nSaturday • 13 June 12:00-15:00\nMonday • 15 June 12:00-15:00 \nSTART : 10km start 08:00am at McDonalds Garden Route mall and Finish at McDonalds Courtenay Street \nPrize giving : All prize winners must be in their club colours when collecting their prize. Winners\nmust be present at prize giving otherwise the prize will be forfeited. No exceptions! \nRACE RESULTS : www.aswd.co.za / www.bouttime.co.za \nENQUIRIES : 083 376 7414 | 084 772 2451 \n    \n  \n
URL:https://www.aswd.co.za/event/total-youth-day/
LOCATION:TOTAL Courtenay\, Total Courtenay Str\, George\, George\, Western Cape\, 6530\, South Africa
CATEGORIES:10km
ATTACH;FMTTYPE=image/png:https://www.aswd.co.za/wp-content/uploads/2018/03/Screenshot-2025-11-13-105713.png
END:VEVENT
BEGIN:VEVENT
DTSTART;TZID="Europe/Helsinki":20260627T080000
DTEND;TZID="Europe/Helsinki":20260627T100000
DTSTAMP:20260419T140254
CREATED:20190524T093702Z
LAST-MODIFIED:20260409T073212Z
UID:18855-1782547200-1782554400@www.aswd.co.za
SUMMARY:Palm Tyres
DESCRIPTION:Online Entries @ www.aswd.co.za\nClose: Wednesday 24 June @23H30 (Additional R15 to Online \nFees) NO REFUNDS!!\nDrop of Entries at Top Gear & Palm Tyres close Wednesday 25 June @17h00\n\nRegistration and Late Entries:\nFriday 26 June between 17h00 – 19h00 @Palm Tyres In front of Astron.\nLate Entries will attract a R20 premium to advertised rates. \nNO LATE ENTRIES ON RACE DAY FOR 10KM\nFun Run/ Colour Run entries on day of Race. \nR1000 CASH TO THE SCHOOL WITH THE MOST 4KM ENTRIES\n(NB: MUST BE MORE THEN 20 ENTRIES TO QUALIFY)\nNO ENTRIES ON RACE DAY ONLY COLLECTION OF TEMP LICENCE NUMBERS AND TAGS \nTransport: Own / Private\nASWD Licensed athlete take note: Forget your IPICO chip – you will have to pay R20 to loan one for the race. Lost your chip – you will have to pay R75 for a replacement chip. \nStart 10km:  Palm Tyres @ 08h00\n5km: @08h10\nFinish: Palm Tyres\nAblution: Palm Tyres\nFirst Aid: Available\nHand-outs: Lucky Draws\nMedals: Medals to the first 500 who complete the race within the cut-off time.\nMedals to the first 150 on the FunRun\nPrize giving: Palm Tyres @09h45. All Prize winners must be in their club colours when collecting their prize. Winners must be present at prize giving otherwise the prize will be forfeited. No Exceptions! \nRoute: Map Available at Registration\nWelcome: Walkers\nEnquiries: Sidwell October 0719955346 \n   \n
URL:https://www.aswd.co.za/event/palm-tyres-4/
LOCATION:Palm Tyres\, Symonds Street\, George\, Western Province\, 6529\, South Africa
CATEGORIES:10km,5km
ATTACH;FMTTYPE=image/png:https://www.aswd.co.za/wp-content/uploads/2019/05/Screenshot-2026-04-07-083217.png
ORGANIZER;CN="Rainbow%20AC":MAILTO:manager@aswd.co.za
END:VEVENT
BEGIN:VEVENT
DTSTART;TZID="Europe/Helsinki":20260704T070000
DTEND;TZID="Europe/Helsinki":20260704T124500
DTSTAMP:20260419T140254
CREATED:20180517T093336Z
LAST-MODIFIED:20260309T091136Z
UID:16226-1783148400-1783169100@www.aswd.co.za
SUMMARY:Knysna Forest Marathon
DESCRIPTION:ENTRIES  \n\nRace Date: 04 JULY 2026.\nCompulsory Registration: 03 JULY 2026 between 10:00 and 22:00\nOnline entries only. No Postal\, fax or telephone entries will be accepted.\nNo entries will be sold at registration or on race day.\nOnline entries available at www.knysnaforestmarathon.co.za.\nTo enter you will be required to create a profile.\nPlease ensure correct entry of your Email address and contact number as this is used for all communications.  \n\nDo not create alternative login profiles.  \nIf you lose your login details\, follow the recovery procedure on the website. \n\nEntries will be limited to 1 250 for the full marathon\, and 6500 for the half marathon.\nCharity Entries: Charity entries will be on sale from 01 December 2025 until they are sold out. There are 250 Half and 100 Full Marathon entries available. These can be bought by anyone\, should you wish to avoid disappointment. Charity entries will cost R790 for the Half Marathon and R840 for the full marathon\, excluding Temp license\, this will include a special gift at registration.\nLoyalty Entries – All 2025 runners will have first choice to enter the 2026 Event.  Loyalty entries open on 12 JANUARY 2026. Your ID number will be compared to our list to be able to make an entry.\nGeneral Online entries – Open on 26 January 2026\, and will close when the limit has been reached\, or on 24 May 2026.\nHalf Marathon Cost R290.00\nFull Marathon Cost R340.00\nEvent T-shirt cost R240 (short) & R270.00 (long)\n\nT-Shirts must be collected in person and will not be handed to third parties.  \nT-shirts not collected on Registration Day will be sold on race day towards Charity.  No T Shirts will be kept or distributed after the event.  \n\nRunners who are not licensed by ASA will need to purchase a temporary license available with online entry at a cost of R50.00.\nPayment options available are Card and EFT.\n\nPlease follow payment instructions closely. If paid by EFT the exact amount and the reference provided must be used. \nPLEASE NOTE: payment must be made within 24 hours of entry otherwise the entry will lapse. \nCONFIRMATION OF ENTRIES\n \n\nConfirmation of your entry will be emailed once payment has been successful.\nYour race numbers will be confirmed Mid-June by email to all entrants.\n\nThis race number confirmation must be produced at registration along with proof of ID. \n  \n\nRACE CHARITIES\nOur designated race charities for 2026 are:\nNSRI\nKNYSNA CHILD WELFARE\nKNYSNA “DIE WERKS WINKEL”\nHANDS & HEARTS ORGANIZATION\n\nKnysna Marathon Club takes great care each year in selecting our event Charities\, as we operate in a small community and do know of the great needs that exist.  Your compassion in including that something extra each year with your entry fee is sincerely welcomed by our selected Charities.  The donations you make as well as the proceeds from the sale of the Charity tickets get split between these Charities for 2026. \nClothing collection is destined to become the biggest of its kind in the country and your gifts of clothing collected at Registration as well as along the race routes make sure our underprivileged communities stay warm during the coldest part of winter.   Please do not hand clothing directly to the local community.  It only draws massive amounts of non-runners to the area resulting in Security risks and the clothes do not end up where it is needed most.  We do have a properly organized distribution program managed by Knysna Marathon Club that collect and properly distribute the clothing where the need is highest. \n  \nSUBSTITUTIONS\n \n\nThe Knysna Forest Marathon will accept substitutions for the 2026 race during the substitution window period of 26 JANUARY – 24 MAY 2026.\nHow it works:\nEntrants will have the opportunity to withdraw from the race during the window period of 24 JANUARY – 24 MAY 2026.\nAn Admin Fee of 15% of the entry fee will be deducted from the withdrawing athlete and a refund of 85% will be made to athletes that are successfully substituted.\nSubstitutions can only take place through the portal. \nNo late substitutions will be accepted after this date.\nThere will be no money or voucher exchange between athletes.\n\nREGISTRATION  \n  \n\nThe registration and finish venue are on the Knysna High School Sports Field on Waterfront Drive.\nRegistration and number collection will be open from l0h00 to 22h00 on Friday 03 JULY 2026 (This is subject to change)\nThere will be no registration or number collection on Saturday morning.  No exceptions.  \nThe race number confirmation together with positive Photo identification such as an ID book or a driver license must be produced at registration.\nNO POSITIVE ID\, NO RACE PACK.\nT-shirts not collected in Person at Registration will be sold on behalf of our Charities on the Saturday.  No T-shirts will be posted or kept for entrants not collected Registration.\nAt registration you will receive your race number (with timing chip)\, t-shirt (if ordered)\, and final instructions.\nThe race number contains a tear-off section with the words “taxi” which must be torn off and handed to the loading staff on Saturday morning to be transported to the race start.  Do not tear off until needed as it cannot be replaced\, and you will not be able to get to the start venue.\nThe top tear off on your race number can be securely attached to your tog bag for handing in at the transport trucks at the Race start (see Route).  Due to the nature of the service provided we do not accept responsibility for the bag or valuables placed in them.\nASA registered runners as well as Temporary runners will be provided with two personalized event number bibs that must be worn on the front and back of the vest and be always visible during the event. No advertising allowed.\n\n  \n  \n  \n  \n  \n  \n  \n  \n  \n  \n  \n  \nROUTE  \n\nThe taxi pickup point to the start is from Vigilance Drive as per the map on the website.\nParking is available at Loerie-park and along George Rex Drive.\nEntry into the Taxi Loading area is only available from the George Rex Drive Direction.\nTaxis leave from Vigilance Drive from 04h30 onwards\, last pick up is 06h30 DO NOT BE LATE! Please comply with the final instructions in your race pack.\nA tog bag vehicle will be on hand to transport your tog bag back to the finish venue. Please do not leave any valuable items in your tog bag.  Bags will be available for collection from l0h00 in the main Registration area.\nThere will be free tea\, coffee and biscuits for all athletes served in the Bedouin tent.\nThe 42.2km starts at 07h00 and the 21.1km starts at 08h00.\nThe timing starts at the firing of the starter pistol and when you cross the start line. THE RACE IS MAT TO MAT.\nMaps of the 21km and 42km routes are available from the website\nWater and other suitable refreshments will be provided at approximately 3km intervals on the route as well as at the start and finish.\n\nPLEASE TRY THROW YOUR SACHETS IN THE BINS PROVIDED OR AS CLOSE TO A MARKER TO ENSURE THE CLEANLINESS OF OUR FOREST. \n\nDistance markers will be placed on the right-hand side of the route at every km\n\n\nCourse use: On all dirt road sections as well as tarred sections not demarcated\, the runners must keep to the right-hand side of the road to allow passage of emergency vehicles and landowners\, unless instructed differently by the marshals and Traffic Officers\nCut-off time: 1km = 3 ½ hrs. \nCut-off time: 2 km= 5 ½ hrs. \n\n(NOTE: This race is NOT a comrades qualifier) \n\nRunners still out on the route after the cutoff times might be picked up and returned to the finish venue due to the opening of traffic lanes and withdrawing of event support.\n\n  \n  \n  \n  \n  \n  \n  \n  \nAFTER THE RACE /  FINISH  \n  \n\nTo celebrate the 41th running of the event a unique indigenous timber shield will be available to the first 200 finishers in the 42.2km; silver medals for the first 800 finishers and bronze medals for the rest\nAll 21km finishers will receive a bronze medal.\nPermanent numbers will be awarded to the runners completing their 10th 42.2km.\n\n\nPrize giving\n\n21.1km prize giving @ 12:30pm \n42.2km prize giving at 13:00pm. \n\nYou must be present to be eligible for the lucky draw prizes. The organizers decision is final in awarding the lucky draw prizes.\nPrize and Lucky draw Money will be paid to your bank account by way of EFT.\nPrize Money will only be paid out once the race results have been verified.\nAppeals contesting results and prize money need to be lodged with in half hour after conclusion of Prize giving.  The head referee will be in attendance behind the prize giving stage.\nAthletes are responsible to collect their own prize money or make a written arrangement before Prize giving commences\, with the Event Organizer failing which prize money is forfeited. (ASA Rule 2.10)\nA free Taxi Shuttle service will be provided to get the runners from the Finish back to the Taxi Pick up point near Loerie Park.\nToilets will be available at the race start and at the Finish venue.\n\n  \n  \n  \n
URL:https://www.aswd.co.za/event/knysna-forest-marathon/
LOCATION:Knysna High School Sport Field\, Waterfront Drive\, Knysna\, South Africa
CATEGORIES:21.1km,42.2km
ATTACH;FMTTYPE=image/png:https://www.aswd.co.za/wp-content/uploads/2018/05/Knysna-Forest.png
END:VEVENT
BEGIN:VEVENT
DTSTART;TZID="Europe/Helsinki":20260822T080000
DTEND;TZID="Europe/Helsinki":20260822T110000
DTSTAMP:20260419T140254
CREATED:20260407T080722Z
LAST-MODIFIED:20260409T065151Z
UID:28916-1787385600-1787396400@www.aswd.co.za
SUMMARY:Abristo Half Marathon
DESCRIPTION:Registration and Late Entries: Limited Late entries on Race day.\nPre-entries: Top Gear Sport\, Meade Street\, Loerie Centre (Ters) \, MountCo\, Courtenay Street and Xciter Sports Outeniqua Lifestyle Centre until Wednesday\, 19 August 2026.\nOnline Entries: ASWD- http://www.aswd.co.za Close Wednesday\, 19 Aug. at 00h00. \nASWD Licensed athlete take note: Forget your IPICO chip – you will have to pay R20 to loan one for the race. Lost your chip – you will have to pay R75 for a replacement chip.\n\nStart: 08h00 at Outeniqua Lifestyle Centre – 21.1km\n08h10 at Outeniqua Lifestyle Centre – 10km\n08h15 at Outeniqua Lifestyle Centre – 5km Fun Run \nFinish:Outeniqua Lifestyel Centre\nAblution: Available at start and finish) \nMedals: Medals all athletes who complete the race within cut-off time.\nPrize giving: All Prize winners must be in their Club Colours when collecting their prize. Winners must be present at prize giving otherwise the prize will be forfeited. No Exceptions! \nRoute: From the Outeniqua Lifestyle Centre towards the NM University and back.\nFirst Aid: Available\nWelcome: Walkers / Wheelchairs\nEnquiries: Esme 084 499 7753 / Yvonne 063 071 5850\n   \n
URL:https://www.aswd.co.za/event/abristo-half-marathon/
LOCATION:Outeniqua Lifestyle Centre\, Cradock Peak Street\, George\, Western Province\, 6529\, South Africa
CATEGORIES:10km,21.1km,5km,Fun Run
ATTACH;FMTTYPE=image/png:https://www.aswd.co.za/wp-content/uploads/2026/04/Screenshot-2026-04-07-083947.png
END:VEVENT
BEGIN:VEVENT
DTSTART;TZID="Europe/Helsinki":20261003T070000
DTEND;TZID="Europe/Helsinki":20261003T100000
DTSTAMP:20260419T140254
CREATED:20190722T081928Z
LAST-MODIFIED:20260409T094759Z
UID:19193-1791010800-1791021600@www.aswd.co.za
SUMMARY:Mosselbaai Sportfees
DESCRIPTION:Pre-Entries \n\nOnline entries @ www.aswd.co.za \, closing date 28 September @ 12h00\nManual Entries : Hartenbos Drawwers Clubhouse or per email\, closing 28 Sept @ 12h00\nLATE ENTRIES WILL ATTRACT A R20.00 PREMIUM TO ADVERTISED RATES.\nNO ENTRIES ON RACE DAY\nONLY COLLECTION OF TEMP LICENSE AND TIMING CHIPS\n\nRegistration & Late entries  \nFriday – 16h00 – 18h00 \, 2 October at the  Hartenbos Library hall.\nOn Race day (3 Oct ) between 06h00 & 6h45 (ONLY REGISTRATION – NO LATE ENTRIES ON RACE DAY)  \nManual Entry Payment\nHartenbos Drawwers\nStandard Bank (Savings Account)                              Branch Code: 051 001\nAccount number: 385 414 803                                   Reference: Name and Surname\nEntry form and Proof of Payment must be mailed to: Hartenbosdrawwers1@gmail.com \nStart – Hartenbos Library 15 km @ 07h00 / 4km @ 07h15 \nPrize giving: Prize giving is 15 minutes after the race has been signed off by the Race Referee.\nA PRIZE WINNER MUST BE PRESENT AT THE PRIZE GIVING TO RECEIVE HIS PRIZE MONEY\nNO ATHLETE WILL RECEIVE HIS PRIZE MONEY IF HE IS NOT IN HIS CLUB COLOURS. \nEnquiries: Petro Nel 079 188 9579\, hartenbosdrawwers1@gmail.com\nFerdie Nel 0832942640\, ferdie@mweb.co.za \n   \n
URL:https://www.aswd.co.za/event/hartenbos-spar-spring-run-5/
LOCATION:Hartenbos Library\, Hartenbos\, Western Cape\, 6520\, South Africa
CATEGORIES:15km,4km,Fun Run
ATTACH;FMTTYPE=image/png:https://www.aswd.co.za/wp-content/uploads/2019/07/Screenshot-2025-11-24-142559.png
END:VEVENT
END:VCALENDAR